BEGIN:VCALENDAR
VERSION:2.0
PRODID:-//Lakeland Regional Health - ECPv6.15.18//NONSGML v1.0//EN
CALSCALE:GREGORIAN
METHOD:PUBLISH
X-ORIGINAL-URL:https://www.mylrh.org
X-WR-CALDESC:Events for Lakeland Regional Health
REFRESH-INTERVAL;VALUE=DURATION:PT1H
X-Robots-Tag:noindex
X-PUBLISHED-TTL:PT1H
BEGIN:VTIMEZONE
TZID:America/New_York
BEGIN:DAYLIGHT
TZOFFSETFROM:-0500
TZOFFSETTO:-0400
TZNAME:EDT
DTSTART:20210314T070000
END:DAYLIGHT
BEGIN:STANDARD
TZOFFSETFROM:-0400
TZOFFSETTO:-0500
TZNAME:EST
DTSTART:20211107T060000
END:STANDARD
BEGIN:DAYLIGHT
TZOFFSETFROM:-0500
TZOFFSETTO:-0400
TZNAME:EDT
DTSTART:20220313T070000
END:DAYLIGHT
BEGIN:STANDARD
TZOFFSETFROM:-0400
TZOFFSETTO:-0500
TZNAME:EST
DTSTART:20221106T060000
END:STANDARD
BEGIN:DAYLIGHT
TZOFFSETFROM:-0500
TZOFFSETTO:-0400
TZNAME:EDT
DTSTART:20230312T070000
END:DAYLIGHT
BEGIN:STANDARD
TZOFFSETFROM:-0400
TZOFFSETTO:-0500
TZNAME:EST
DTSTART:20231105T060000
END:STANDARD
END:VTIMEZONE
BEGIN:VEVENT
DTSTART;TZID=America/New_York:20220412T183000
DTEND;TZID=America/New_York:20220412T193000
DTSTAMP:20260422T050416
CREATED:20220318T140524Z
LAST-MODIFIED:20221222T161835Z
UID:27163-1649788200-1649791800@www.mylrh.org
SUMMARY:Post-Partum Essentials
DESCRIPTION:A quick virtual class for moms and dads-to-be.\n\n\n\n\n\n\n\n\n\nLearn about: \n\nBreastfeeding\nNewborn care\nSelf-care and more.\n\nView upcoming dates and register>
URL:https://www.mylrh.org/event/post-partum-essentials-4/2022-04-12/
LOCATION:Online
ATTACH;FMTTYPE=image/png:https://www.mylrh.org/wp-content/uploads/2021/07/Post-PartumEssentials_eventimg.png
END:VEVENT
END:VCALENDAR