BEGIN:VCALENDAR
VERSION:2.0
PRODID:-//Lakeland Regional Health - ECPv6.15.18//NONSGML v1.0//EN
CALSCALE:GREGORIAN
METHOD:PUBLISH
X-WR-CALNAME:Lakeland Regional Health
X-ORIGINAL-URL:https://www.mylrh.org
X-WR-CALDESC:Events for Lakeland Regional Health
REFRESH-INTERVAL;VALUE=DURATION:PT1H
X-Robots-Tag:noindex
X-PUBLISHED-TTL:PT1H
BEGIN:VTIMEZONE
TZID:America/New_York
BEGIN:DAYLIGHT
TZOFFSETFROM:-0500
TZOFFSETTO:-0400
TZNAME:EDT
DTSTART:20240310T070000
END:DAYLIGHT
BEGIN:STANDARD
TZOFFSETFROM:-0400
TZOFFSETTO:-0500
TZNAME:EST
DTSTART:20241103T060000
END:STANDARD
BEGIN:DAYLIGHT
TZOFFSETFROM:-0500
TZOFFSETTO:-0400
TZNAME:EDT
DTSTART:20250309T070000
END:DAYLIGHT
BEGIN:STANDARD
TZOFFSETFROM:-0400
TZOFFSETTO:-0500
TZNAME:EST
DTSTART:20251102T060000
END:STANDARD
BEGIN:DAYLIGHT
TZOFFSETFROM:-0500
TZOFFSETTO:-0400
TZNAME:EDT
DTSTART:20260308T070000
END:DAYLIGHT
BEGIN:STANDARD
TZOFFSETFROM:-0400
TZOFFSETTO:-0500
TZNAME:EST
DTSTART:20261101T060000
END:STANDARD
BEGIN:DAYLIGHT
TZOFFSETFROM:-0500
TZOFFSETTO:-0400
TZNAME:EDT
DTSTART:20270314T070000
END:DAYLIGHT
BEGIN:STANDARD
TZOFFSETFROM:-0400
TZOFFSETTO:-0500
TZNAME:EST
DTSTART:20271107T060000
END:STANDARD
END:VTIMEZONE
BEGIN:VEVENT
DTSTART;TZID=America/New_York:20260408T120000
DTEND;TZID=America/New_York:20260408T130000
DTSTAMP:20260419T111041
CREATED:20250702T143018Z
LAST-MODIFIED:20250702T143018Z
UID:43772-1775649600-1775653200@www.mylrh.org
SUMMARY:Diabetes Support Group
DESCRIPTION:Do you or someone you know have diabetes? Join Our Diabetes Support Group! \nREGISTER NOW \nManaging diabetes can be challenging\, but you don’t have to do it alone. Our Diabetes Support Group offers a welcoming and supportive environment where you can connect with others who understand your journey. Whether you’re newly diagnosed or have been managing diabetes for years\, our group provides valuable resources\, education\, and education\, and encouragement. \nJoin us for tips\, share experiences\, and learn from fellow community members. \nFor questions regarding the support group\, please contact Gwen Rogerson (Gwen.Rogerson@myLRH.org). \nDate Topics: \nAugust 13 \nStorm Ready: Hurricane Preparedness for People with Diabetes \nSeptember 10 \nUnderstanding Nutrition Labels for Better Glucose Management \nOctober 15 \nSick Day Rules & Infection Prevention \nNovember 12 \nNational Diabetes Month: Living Well with Diabetes Panel \nDecember 10 \nCoping with the Holidays (Stress\, Food & Family) \n2026 Dates: \nJanuary 14 \nNew Year\, New Habits: Building a Realistic Diabetes Routine \nFebruary 11 \nHeart Health & Diabetes: Love Your Heart\, Protect Your Future \nMarch 11 \nSpring into Action: Re-energizing your Diabetes Self-Care \nApril 8 \nUnderstanding Your Labs (A1c\, Lipids\, Kidney Function) \nMay 13 \nStaying Strong this Summer: Managing Diabetes in the Heat and While Traveling \nJune 10 \nMaking My Medications Work for Me \nJuly 8 \nStress and Diabetes: Care for your Mind\, Care for your Sugar
URL:https://www.mylrh.org/event/diabetes-support-group-4/2026-04-08/
LOCATION:Lakeland Regional Health Kathleen Campus\, 2400 Kathleen Road\, Lakeland\, FL\, 33810\, United States
ATTACH;FMTTYPE=image/jpeg:https://www.mylrh.org/wp-content/uploads/2023/09/GettyImages-1462659540-scaled.jpg
END:VEVENT
BEGIN:VEVENT
DTSTART;TZID=America/New_York:20260311T120000
DTEND;TZID=America/New_York:20260311T130000
DTSTAMP:20260419T111041
CREATED:20250702T143017Z
LAST-MODIFIED:20250702T143017Z
UID:43771-1773230400-1773234000@www.mylrh.org
SUMMARY:Diabetes Support Group
DESCRIPTION:Do you or someone you know have diabetes? Join Our Diabetes Support Group! \nREGISTER NOW \nManaging diabetes can be challenging\, but you don’t have to do it alone. Our Diabetes Support Group offers a welcoming and supportive environment where you can connect with others who understand your journey. Whether you’re newly diagnosed or have been managing diabetes for years\, our group provides valuable resources\, education\, and education\, and encouragement. \nJoin us for tips\, share experiences\, and learn from fellow community members. \nFor questions regarding the support group\, please contact Gwen Rogerson (Gwen.Rogerson@myLRH.org). \nDate Topics: \nAugust 13 \nStorm Ready: Hurricane Preparedness for People with Diabetes \nSeptember 10 \nUnderstanding Nutrition Labels for Better Glucose Management \nOctober 15 \nSick Day Rules & Infection Prevention \nNovember 12 \nNational Diabetes Month: Living Well with Diabetes Panel \nDecember 10 \nCoping with the Holidays (Stress\, Food & Family) \n2026 Dates: \nJanuary 14 \nNew Year\, New Habits: Building a Realistic Diabetes Routine \nFebruary 11 \nHeart Health & Diabetes: Love Your Heart\, Protect Your Future \nMarch 11 \nSpring into Action: Re-energizing your Diabetes Self-Care \nApril 8 \nUnderstanding Your Labs (A1c\, Lipids\, Kidney Function) \nMay 13 \nStaying Strong this Summer: Managing Diabetes in the Heat and While Traveling \nJune 10 \nMaking My Medications Work for Me \nJuly 8 \nStress and Diabetes: Care for your Mind\, Care for your Sugar
URL:https://www.mylrh.org/event/diabetes-support-group-4/2026-03-11/
LOCATION:Lakeland Regional Health Kathleen Campus\, 2400 Kathleen Road\, Lakeland\, FL\, 33810\, United States
ATTACH;FMTTYPE=image/jpeg:https://www.mylrh.org/wp-content/uploads/2023/09/GettyImages-1462659540-scaled.jpg
END:VEVENT
BEGIN:VEVENT
DTSTART;TZID=America/New_York:20260211T120000
DTEND;TZID=America/New_York:20260211T130000
DTSTAMP:20260419T111041
CREATED:20250702T143017Z
LAST-MODIFIED:20250702T143017Z
UID:43770-1770811200-1770814800@www.mylrh.org
SUMMARY:Diabetes Support Group
DESCRIPTION:Do you or someone you know have diabetes? Join Our Diabetes Support Group! \nREGISTER NOW \nManaging diabetes can be challenging\, but you don’t have to do it alone. Our Diabetes Support Group offers a welcoming and supportive environment where you can connect with others who understand your journey. Whether you’re newly diagnosed or have been managing diabetes for years\, our group provides valuable resources\, education\, and education\, and encouragement. \nJoin us for tips\, share experiences\, and learn from fellow community members. \nFor questions regarding the support group\, please contact Gwen Rogerson (Gwen.Rogerson@myLRH.org). \nDate Topics: \nAugust 13 \nStorm Ready: Hurricane Preparedness for People with Diabetes \nSeptember 10 \nUnderstanding Nutrition Labels for Better Glucose Management \nOctober 15 \nSick Day Rules & Infection Prevention \nNovember 12 \nNational Diabetes Month: Living Well with Diabetes Panel \nDecember 10 \nCoping with the Holidays (Stress\, Food & Family) \n2026 Dates: \nJanuary 14 \nNew Year\, New Habits: Building a Realistic Diabetes Routine \nFebruary 11 \nHeart Health & Diabetes: Love Your Heart\, Protect Your Future \nMarch 11 \nSpring into Action: Re-energizing your Diabetes Self-Care \nApril 8 \nUnderstanding Your Labs (A1c\, Lipids\, Kidney Function) \nMay 13 \nStaying Strong this Summer: Managing Diabetes in the Heat and While Traveling \nJune 10 \nMaking My Medications Work for Me \nJuly 8 \nStress and Diabetes: Care for your Mind\, Care for your Sugar
URL:https://www.mylrh.org/event/diabetes-support-group-4/2026-02-11/
LOCATION:Lakeland Regional Health Kathleen Campus\, 2400 Kathleen Road\, Lakeland\, FL\, 33810\, United States
ATTACH;FMTTYPE=image/jpeg:https://www.mylrh.org/wp-content/uploads/2023/09/GettyImages-1462659540-scaled.jpg
END:VEVENT
BEGIN:VEVENT
DTSTART;TZID=America/New_York:20260114T120000
DTEND;TZID=America/New_York:20260114T130000
DTSTAMP:20260419T111041
CREATED:20250702T143017Z
LAST-MODIFIED:20250702T143017Z
UID:43769-1768392000-1768395600@www.mylrh.org
SUMMARY:Diabetes Support Group
DESCRIPTION:Do you or someone you know have diabetes? Join Our Diabetes Support Group! \nREGISTER NOW \nManaging diabetes can be challenging\, but you don’t have to do it alone. Our Diabetes Support Group offers a welcoming and supportive environment where you can connect with others who understand your journey. Whether you’re newly diagnosed or have been managing diabetes for years\, our group provides valuable resources\, education\, and education\, and encouragement. \nJoin us for tips\, share experiences\, and learn from fellow community members. \nFor questions regarding the support group\, please contact Gwen Rogerson (Gwen.Rogerson@myLRH.org). \nDate Topics: \nAugust 13 \nStorm Ready: Hurricane Preparedness for People with Diabetes \nSeptember 10 \nUnderstanding Nutrition Labels for Better Glucose Management \nOctober 15 \nSick Day Rules & Infection Prevention \nNovember 12 \nNational Diabetes Month: Living Well with Diabetes Panel \nDecember 10 \nCoping with the Holidays (Stress\, Food & Family) \n2026 Dates: \nJanuary 14 \nNew Year\, New Habits: Building a Realistic Diabetes Routine \nFebruary 11 \nHeart Health & Diabetes: Love Your Heart\, Protect Your Future \nMarch 11 \nSpring into Action: Re-energizing your Diabetes Self-Care \nApril 8 \nUnderstanding Your Labs (A1c\, Lipids\, Kidney Function) \nMay 13 \nStaying Strong this Summer: Managing Diabetes in the Heat and While Traveling \nJune 10 \nMaking My Medications Work for Me \nJuly 8 \nStress and Diabetes: Care for your Mind\, Care for your Sugar
URL:https://www.mylrh.org/event/diabetes-support-group-4/2026-01-14/
LOCATION:Lakeland Regional Health Kathleen Campus\, 2400 Kathleen Road\, Lakeland\, FL\, 33810\, United States
ATTACH;FMTTYPE=image/jpeg:https://www.mylrh.org/wp-content/uploads/2023/09/GettyImages-1462659540-scaled.jpg
END:VEVENT
BEGIN:VEVENT
DTSTART;TZID=America/New_York:20251210T120000
DTEND;TZID=America/New_York:20251210T130000
DTSTAMP:20260419T111041
CREATED:20250702T143017Z
LAST-MODIFIED:20250702T143017Z
UID:43768-1765368000-1765371600@www.mylrh.org
SUMMARY:Diabetes Support Group
DESCRIPTION:Do you or someone you know have diabetes? Join Our Diabetes Support Group! \nREGISTER NOW \nManaging diabetes can be challenging\, but you don’t have to do it alone. Our Diabetes Support Group offers a welcoming and supportive environment where you can connect with others who understand your journey. Whether you’re newly diagnosed or have been managing diabetes for years\, our group provides valuable resources\, education\, and education\, and encouragement. \nJoin us for tips\, share experiences\, and learn from fellow community members. \nFor questions regarding the support group\, please contact Gwen Rogerson (Gwen.Rogerson@myLRH.org). \nDate Topics: \nAugust 13 \nStorm Ready: Hurricane Preparedness for People with Diabetes \nSeptember 10 \nUnderstanding Nutrition Labels for Better Glucose Management \nOctober 15 \nSick Day Rules & Infection Prevention \nNovember 12 \nNational Diabetes Month: Living Well with Diabetes Panel \nDecember 10 \nCoping with the Holidays (Stress\, Food & Family) \n2026 Dates: \nJanuary 14 \nNew Year\, New Habits: Building a Realistic Diabetes Routine \nFebruary 11 \nHeart Health & Diabetes: Love Your Heart\, Protect Your Future \nMarch 11 \nSpring into Action: Re-energizing your Diabetes Self-Care \nApril 8 \nUnderstanding Your Labs (A1c\, Lipids\, Kidney Function) \nMay 13 \nStaying Strong this Summer: Managing Diabetes in the Heat and While Traveling \nJune 10 \nMaking My Medications Work for Me \nJuly 8 \nStress and Diabetes: Care for your Mind\, Care for your Sugar
URL:https://www.mylrh.org/event/diabetes-support-group-4/2025-12-10/
LOCATION:Lakeland Regional Health Kathleen Campus\, 2400 Kathleen Road\, Lakeland\, FL\, 33810\, United States
ATTACH;FMTTYPE=image/jpeg:https://www.mylrh.org/wp-content/uploads/2023/09/GettyImages-1462659540-scaled.jpg
END:VEVENT
BEGIN:VEVENT
DTSTART;TZID=America/New_York:20251112T120000
DTEND;TZID=America/New_York:20251112T130000
DTSTAMP:20260419T111041
CREATED:20250702T143016Z
LAST-MODIFIED:20250702T143016Z
UID:43767-1762948800-1762952400@www.mylrh.org
SUMMARY:Diabetes Support Group
DESCRIPTION:Do you or someone you know have diabetes? Join Our Diabetes Support Group! \nREGISTER NOW \nManaging diabetes can be challenging\, but you don’t have to do it alone. Our Diabetes Support Group offers a welcoming and supportive environment where you can connect with others who understand your journey. Whether you’re newly diagnosed or have been managing diabetes for years\, our group provides valuable resources\, education\, and education\, and encouragement. \nJoin us for tips\, share experiences\, and learn from fellow community members. \nFor questions regarding the support group\, please contact Gwen Rogerson (Gwen.Rogerson@myLRH.org). \nDate Topics: \nAugust 13 \nStorm Ready: Hurricane Preparedness for People with Diabetes \nSeptember 10 \nUnderstanding Nutrition Labels for Better Glucose Management \nOctober 15 \nSick Day Rules & Infection Prevention \nNovember 12 \nNational Diabetes Month: Living Well with Diabetes Panel \nDecember 10 \nCoping with the Holidays (Stress\, Food & Family) \n2026 Dates: \nJanuary 14 \nNew Year\, New Habits: Building a Realistic Diabetes Routine \nFebruary 11 \nHeart Health & Diabetes: Love Your Heart\, Protect Your Future \nMarch 11 \nSpring into Action: Re-energizing your Diabetes Self-Care \nApril 8 \nUnderstanding Your Labs (A1c\, Lipids\, Kidney Function) \nMay 13 \nStaying Strong this Summer: Managing Diabetes in the Heat and While Traveling \nJune 10 \nMaking My Medications Work for Me \nJuly 8 \nStress and Diabetes: Care for your Mind\, Care for your Sugar
URL:https://www.mylrh.org/event/diabetes-support-group-4/2025-11-12/
LOCATION:Lakeland Regional Health Kathleen Campus\, 2400 Kathleen Road\, Lakeland\, FL\, 33810\, United States
ATTACH;FMTTYPE=image/jpeg:https://www.mylrh.org/wp-content/uploads/2023/09/GettyImages-1462659540-scaled.jpg
END:VEVENT
BEGIN:VEVENT
DTSTART;TZID=America/New_York:20251015T120000
DTEND;TZID=America/New_York:20251015T130000
DTSTAMP:20260419T111041
CREATED:20250702T143016Z
LAST-MODIFIED:20250702T143016Z
UID:43766-1760529600-1760533200@www.mylrh.org
SUMMARY:Diabetes Support Group
DESCRIPTION:Do you or someone you know have diabetes? Join Our Diabetes Support Group! \nREGISTER NOW \nManaging diabetes can be challenging\, but you don’t have to do it alone. Our Diabetes Support Group offers a welcoming and supportive environment where you can connect with others who understand your journey. Whether you’re newly diagnosed or have been managing diabetes for years\, our group provides valuable resources\, education\, and education\, and encouragement. \nJoin us for tips\, share experiences\, and learn from fellow community members. \nFor questions regarding the support group\, please contact Gwen Rogerson (Gwen.Rogerson@myLRH.org). \nDate Topics: \nAugust 13 \nStorm Ready: Hurricane Preparedness for People with Diabetes \nSeptember 10 \nUnderstanding Nutrition Labels for Better Glucose Management \nOctober 15 \nSick Day Rules & Infection Prevention \nNovember 12 \nNational Diabetes Month: Living Well with Diabetes Panel \nDecember 10 \nCoping with the Holidays (Stress\, Food & Family) \n2026 Dates: \nJanuary 14 \nNew Year\, New Habits: Building a Realistic Diabetes Routine \nFebruary 11 \nHeart Health & Diabetes: Love Your Heart\, Protect Your Future \nMarch 11 \nSpring into Action: Re-energizing your Diabetes Self-Care \nApril 8 \nUnderstanding Your Labs (A1c\, Lipids\, Kidney Function) \nMay 13 \nStaying Strong this Summer: Managing Diabetes in the Heat and While Traveling \nJune 10 \nMaking My Medications Work for Me \nJuly 8 \nStress and Diabetes: Care for your Mind\, Care for your Sugar
URL:https://www.mylrh.org/event/diabetes-support-group-4/2025-10-15/
LOCATION:Lakeland Regional Health Kathleen Campus\, 2400 Kathleen Road\, Lakeland\, FL\, 33810\, United States
ATTACH;FMTTYPE=image/jpeg:https://www.mylrh.org/wp-content/uploads/2023/09/GettyImages-1462659540-scaled.jpg
END:VEVENT
BEGIN:VEVENT
DTSTART;TZID=America/New_York:20250910T120000
DTEND;TZID=America/New_York:20250910T130000
DTSTAMP:20260419T111041
CREATED:20250702T143016Z
LAST-MODIFIED:20250702T143016Z
UID:43765-1757505600-1757509200@www.mylrh.org
SUMMARY:Diabetes Support Group
DESCRIPTION:Do you or someone you know have diabetes? Join Our Diabetes Support Group! \nREGISTER NOW \nManaging diabetes can be challenging\, but you don’t have to do it alone. Our Diabetes Support Group offers a welcoming and supportive environment where you can connect with others who understand your journey. Whether you’re newly diagnosed or have been managing diabetes for years\, our group provides valuable resources\, education\, and education\, and encouragement. \nJoin us for tips\, share experiences\, and learn from fellow community members. \nFor questions regarding the support group\, please contact Gwen Rogerson (Gwen.Rogerson@myLRH.org). \nDate Topics: \nAugust 13 \nStorm Ready: Hurricane Preparedness for People with Diabetes \nSeptember 10 \nUnderstanding Nutrition Labels for Better Glucose Management \nOctober 15 \nSick Day Rules & Infection Prevention \nNovember 12 \nNational Diabetes Month: Living Well with Diabetes Panel \nDecember 10 \nCoping with the Holidays (Stress\, Food & Family) \n2026 Dates: \nJanuary 14 \nNew Year\, New Habits: Building a Realistic Diabetes Routine \nFebruary 11 \nHeart Health & Diabetes: Love Your Heart\, Protect Your Future \nMarch 11 \nSpring into Action: Re-energizing your Diabetes Self-Care \nApril 8 \nUnderstanding Your Labs (A1c\, Lipids\, Kidney Function) \nMay 13 \nStaying Strong this Summer: Managing Diabetes in the Heat and While Traveling \nJune 10 \nMaking My Medications Work for Me \nJuly 8 \nStress and Diabetes: Care for your Mind\, Care for your Sugar
URL:https://www.mylrh.org/event/diabetes-support-group-4/2025-09-10/
LOCATION:Lakeland Regional Health Kathleen Campus\, 2400 Kathleen Road\, Lakeland\, FL\, 33810\, United States
ATTACH;FMTTYPE=image/jpeg:https://www.mylrh.org/wp-content/uploads/2023/09/GettyImages-1462659540-scaled.jpg
END:VEVENT
BEGIN:VEVENT
DTSTART;TZID=America/New_York:20250813T120000
DTEND;TZID=America/New_York:20250813T130000
DTSTAMP:20260419T111041
CREATED:20250702T143016Z
LAST-MODIFIED:20250702T143016Z
UID:43764-1755086400-1755090000@www.mylrh.org
SUMMARY:Diabetes Support Group
DESCRIPTION:Do you or someone you know have diabetes? Join Our Diabetes Support Group! \nREGISTER NOW \nManaging diabetes can be challenging\, but you don’t have to do it alone. Our Diabetes Support Group offers a welcoming and supportive environment where you can connect with others who understand your journey. Whether you’re newly diagnosed or have been managing diabetes for years\, our group provides valuable resources\, education\, and education\, and encouragement. \nJoin us for tips\, share experiences\, and learn from fellow community members. \nFor questions regarding the support group\, please contact Gwen Rogerson (Gwen.Rogerson@myLRH.org). \nDate Topics: \nAugust 13 \nStorm Ready: Hurricane Preparedness for People with Diabetes \nSeptember 10 \nUnderstanding Nutrition Labels for Better Glucose Management \nOctober 15 \nSick Day Rules & Infection Prevention \nNovember 12 \nNational Diabetes Month: Living Well with Diabetes Panel \nDecember 10 \nCoping with the Holidays (Stress\, Food & Family) \n2026 Dates: \nJanuary 14 \nNew Year\, New Habits: Building a Realistic Diabetes Routine \nFebruary 11 \nHeart Health & Diabetes: Love Your Heart\, Protect Your Future \nMarch 11 \nSpring into Action: Re-energizing your Diabetes Self-Care \nApril 8 \nUnderstanding Your Labs (A1c\, Lipids\, Kidney Function) \nMay 13 \nStaying Strong this Summer: Managing Diabetes in the Heat and While Traveling \nJune 10 \nMaking My Medications Work for Me \nJuly 8 \nStress and Diabetes: Care for your Mind\, Care for your Sugar
URL:https://www.mylrh.org/event/diabetes-support-group-4/2025-08-13/
LOCATION:Lakeland Regional Health Kathleen Campus\, 2400 Kathleen Road\, Lakeland\, FL\, 33810\, United States
ATTACH;FMTTYPE=image/jpeg:https://www.mylrh.org/wp-content/uploads/2023/09/GettyImages-1462659540-scaled.jpg
END:VEVENT
END:VCALENDAR